BEGIN:VCALENDAR
VERSION:2.0
PRODID:-//eventon.com NONSGML v1.0//EN
CALSCALE:GREGORIAN
METHOD:PUBLISH
BEGIN:VEVENT
UID:69e782abb30e6
DTSTAMP:20260421T135907Z
DTSTART:20220314
DTEND:20220315
LOCATION:
SUMMARY:MESEILLUSZTRÁCIÓK
DESCRIPTION:A meseillusztráció egy olyan képzőművészeti műfaj\,  ame
 ly segít megérteni a szöveg\,  a tartalom\,  a valószínű és a valós
 zínűtlen elemek rendszerét\,  szövevényét. Vizuálisan közelebb hozz
 a – élményt nyújtó világával – a mese tartalmát\,  lényegét. K
 épi eszköztárával természetessé\,  elfogadottá teszi azt a világot\
 ,  amelyet a szöveg vindikál. Épít a képzeletre és a[..]\nhttps://mom
 kult.hu/events/meseillusztraciok/
URL:https://momkult.hu/events/meseillusztraciok/
END:VEVENT
END:VCALENDAR