BEGIN:VCALENDAR
VERSION:2.0
PRODID:-//eventon.com NONSGML v1.0//EN
CALSCALE:GREGORIAN
METHOD:PUBLISH
BEGIN:VEVENT
UID:69e782e290bda
DTSTAMP:20260421T140002Z
DTSTART:20220406T170000Z
DTEND:20220406T190000Z
LOCATION:
SUMMARY:KÉPMÁS-EST
DESCRIPTION:Azon programoknál\,  ahol a helyszín sajátosságai miatt nem
  tartható a látogatók közötti másfél méter\,  továbbra is ajánlju
 k a maszk viselését. ____________________________________________________
 ___________________________________ A Képmás Magazin improvizációs est
 in a Nézőművészeti Kft. vendégművészei három jelenetet adnak elő.
  A jelenetek után Szám Katalin\,  a Képmás magazin főszerkesztője bes
 zélget  az előadás Theisz Dóra pszichológussal. Mi[..]\nhttps://momku
 lt.hu/events/kepmas-est/
URL:https://momkult.hu/events/kepmas-est/
END:VEVENT
END:VCALENDAR