BEGIN:VCALENDAR
VERSION:2.0
PRODID:-//eventon.com NONSGML v1.0//EN
CALSCALE:GREGORIAN
METHOD:PUBLISH
BEGIN:VEVENT
UID:69eb425dafacf
DTSTAMP:20260424T101349Z
DTSTART:20181228T173000Z
DTEND:20181228T190000Z
LOCATION:
SUMMARY:Masha és a Medve
DESCRIPTION:Masha nyughatatlan kislány\,  aki mindig tele van energiával\
 ,  s nem bír a fenekén megülni. Így aztán nem csoda\,  hogy barátjáv
 al\,  a nyugis\,  lustácska medvével folyton elképesztő bonyodalomba ke
 verednek. ​Ezúttal egy fantasztikus karácsonyi nyomozós kalandban tal
 lják magukat Rózival a malaccal\,  nyuszival\,  a farkas testvérekkel 
 s egy pingvinnel. A történetben szerepel még[..]\nhttps://momkult.hu/ev
 ents/masha-es-a-medve-1730/
URL:https://momkult.hu/events/masha-es-a-medve-1730/
END:VEVENT
END:VCALENDAR