BEGIN:VCALENDAR
VERSION:2.0
PRODID:-//eventon.com NONSGML v1.0//EN
CALSCALE:GREGORIAN
METHOD:PUBLISH
BEGIN:VEVENT
UID:69e782fc8decb
DTSTAMP:20260421T140028Z
DTSTART:20220310T180000Z
DTEND:20220310T200000Z
LOCATION:
SUMMARY:A SZABADSÁGUNK A JÖVŐNKBEN REJLIK I MAGYAR KRÓNIKA
DESCRIPTION:Azon programoknál\,  ahol a helyszín sajátosságai miatt nem
  tartható a látogatók közötti másfél méter\,  továbbra is ajánlju
 k a maszk viselését. ____________________________________________________
 __________________________________ A Magyar Krónika kulturális magazin in
 spiráló portrékkal mutat be kiemelkedő magyar művészeket\,  tudósoka
 t\,  innovációkat\,  történeteket. A magazin most induló beszélgető-
 est sorozatával kilép a print és az online sajtó kereteiből\, [..]\nht
 tps://momkult.hu/events/a-szabadsagunk-a-jovonkben-rejlik-i-magyar-kronika/
URL:https://momkult.hu/events/a-szabadsagunk-a-jovonkben-rejlik-i-magyar-kronika/
END:VEVENT
END:VCALENDAR