BEGIN:VCALENDAR
VERSION:2.0
PRODID:-//eventon.com NONSGML v1.0//EN
CALSCALE:GREGORIAN
METHOD:PUBLISH
BEGIN:VEVENT
UID:69e7833c57e6b
DTSTAMP:20260421T140132Z
DTSTART:20220309T170000Z
DTEND:20220309T190000Z
LOCATION:
SUMMARY:HITEL-EST
DESCRIPTION:Azon programoknál\,  ahol a helyszín sajátosságai miatt nem
  tartható a látogatók közötti másfél méter\,  továbbra is ajánlju
 k a maszk viselését. ____________________________________________________
 __________________________________ Az utolsó értelmiségi sorozat 3. rés
 ze. A vendég Gróh Gáspár lesz\,  akivel a Hitel folyóirat főszerkeszt
 ője\,  Papp Endre beszélget. Gróh Gáspár József Attila-díjas irodalo
 mtörténész\,  kritikus\,  esszé- és közíró\,  szerkesztő.[..]\nhtt
 ps://momkult.hu/events/hitel-est-16/
URL:https://momkult.hu/events/hitel-est-16/
END:VEVENT
END:VCALENDAR