BEGIN:VCALENDAR
VERSION:2.0
PRODID:-//eventon.com NONSGML v1.0//EN
CALSCALE:GREGORIAN
METHOD:PUBLISH
BEGIN:VEVENT
UID:69eb429a528ff
DTSTAMP:20260424T101450Z
DTSTART:20181219T190000Z
DTEND:20181219T210000Z
LOCATION:
SUMMARY:Aurora – egy új Csipkerózsika történet
DESCRIPTION:Egy mindenki által ismert mese – a Csipkerózsika történet
 e – egy nagyszabású klasszikus zenemű és a kortárs tánc egyedi komb
 inációja a Coincidance Táncszínház előadásában! Az egyfelvonásos e
 lőadás sokrétűen értelmezi az eredeti történet szimbólumrendszerét
 . Fókuszba a nővé érő fiatal lány küzdelme kerül\,  kibontva a mese
  legjellegzetesebb szimbólumait. Az előadás napjainkra is[..]\nhttps://m
 omkult.hu/events/aurora-egy-uj-csipkerozsika-tortenet/
URL:https://momkult.hu/events/aurora-egy-uj-csipkerozsika-tortenet/
END:VEVENT
END:VCALENDAR