BEGIN:VCALENDAR
VERSION:2.0
PRODID:-//eventon.com NONSGML v1.0//EN
CALSCALE:GREGORIAN
METHOD:PUBLISH
BEGIN:VEVENT
UID:69e76e9bcfb4a
DTSTAMP:20260421T123331Z
DTSTART:20220401
DTEND:20220402
LOCATION:
SUMMARY:SZEKERES ERZSÉBET KIÁLLÍTÁSA
DESCRIPTION:Azon programoknál\,  ahol a helyszín sajátosságai miatt nem
  tartható a látogatók közötti másfél méter\,  továbbra is ajánlju
 k a maszk viselését. ____________________________________________________
 ___________________________________ Szekeres Erzsébet Magyar Örökség- 
 s Pro Cultura Christiana-díjas textilművész\,   Gödöllő  díszpolg
 ára a 2021-ben megrendezett Nemzetközi Eucharisztikus Kongresszus tisztel
 etére készített grafikai sorozatot\,  amelyet első ízben a lakiteleki 
 Jézus Szíve templomban[..]\nhttps://momkult.hu/events/szekeres-erzsebet-k
 iallitasa/
URL:https://momkult.hu/events/szekeres-erzsebet-kiallitasa/
END:VEVENT
END:VCALENDAR