BEGIN:VCALENDAR
VERSION:2.0
PRODID:-//eventon.com NONSGML v1.0//EN
CALSCALE:GREGORIAN
METHOD:PUBLISH
BEGIN:VEVENT
UID:69e76eda235ca
DTSTAMP:20260421T123434Z
DTSTART:20220401T150000Z
DTEND:20220401T170000Z
LOCATION:
SUMMARY:HÁ' MÉ'? HÁ' NEM? ...HÁ' DE!!!
DESCRIPTION:Azon programoknál\,  ahol a helyszín sajátosságai miatt nem
  tartható a látogatók közötti másfél méter\,  továbbra is ajánlju
 k a maszk viselését. ____________________________________________________
 ___________________________________ Laár András és Besenyő István köz
 ös estje Laár András Karinthy gyűrű díjas humorista\,  előadóművé
 sz\,  énekes-zeneszerző\,  költő Há&#8217; mé&#8217;? Há&#8217; nem?
  &#8230;Há&#8217; DE!!! című önálló estje. Besenyő T.A. István\,  
 azaz Besenyő[..]\nhttps://momkult.hu/events/ha-me-ha-nem-ha-de/
URL:https://momkult.hu/events/ha-me-ha-nem-ha-de/
END:VEVENT
END:VCALENDAR