BEGIN:VCALENDAR
VERSION:2.0
PRODID:-//eventon.com NONSGML v1.0//EN
CALSCALE:GREGORIAN
METHOD:PUBLISH
BEGIN:VEVENT
UID:69e78303763e1
DTSTAMP:20260421T140035Z
DTSTART:20220315T090000Z
DTEND:20220315T110000Z
LOCATION:
SUMMARY:MÁRCIUS 15. ÜNNEPSÉG
DESCRIPTION:Azon programoknál\,  ahol a helyszín sajátosságai miatt nem
  tartható a látogatók közötti másfél méter\,  továbbra is ajánlju
 k a maszk viselését. ____________________________________________________
 ___________________________________ Ünnepi megemlékezés az 1848/49-es fo
 rradalom és szabadságharc évfordulójának tiszteletére a Hegyvidéki 
 nkormányzat szervezésében. Köszöntőt mond Gulyás Gergely a kerület
  országgyűlési képviselője\,  Miniszterelnökséget vezető miniszter.
  PROGRAM: Dankó Richard\,  zeneszerző\,  zongoraművész[..]\nhttps://mom
 kult.hu/events/marcius-15-unnepseg/
URL:https://momkult.hu/events/marcius-15-unnepseg/
END:VEVENT
END:VCALENDAR