BEGIN:VCALENDAR
VERSION:2.0
PRODID:-//eventon.com NONSGML v1.0//EN
CALSCALE:GREGORIAN
METHOD:PUBLISH
BEGIN:VEVENT
UID:69eb425daface
DTSTAMP:20260424T101349Z
DTSTART:20181218T200000Z
DTEND:20181218T213000Z
LOCATION:
SUMMARY:Montázs | Varidance
DESCRIPTION:A Montázs című előadás jellemzője az érzelmek\,  gondol
 atok szenvedélyes hullámzása\,  a kifejezés szabadsága\,  mely a magya
 r néptánc elemeit montírozza össze ismert táncstílusokkal úgy\,  aho
 gyan az élet ritmusa változik\,  ahogy a napok\,  az események\,  a hang
 ulatok váltják egymást\nhttps://momkult.hu/events/montazs-varidance/
URL:https://momkult.hu/events/montazs-varidance/
END:VEVENT
END:VCALENDAR