BEGIN:VCALENDAR
VERSION:2.0
PRODID:-//eventon.com NONSGML v1.0//EN
CALSCALE:GREGORIAN
METHOD:PUBLISH
BEGIN:VEVENT
UID:69e78330dae66
DTSTAMP:20260421T140120Z
DTSTART:20220308T180000Z
DTEND:20220308T210000Z
LOCATION:
SUMMARY:DOMOKOS LÁSZLÓ
DESCRIPTION:Tisztelt Jegyvásárlók! Tájékoztatjuk Önöket\,  hogy a 20
 22. március 8-ára meghirdetett Domokos László: Székely stand-up c. el
 adás előre nem látható okok miatt elmarad\,  a jegyek árát visszaté
 rítjük. Amennyiben Ön online vásárolta a jegyét\,  további teendője
  nincs\,  a visszatérítés automatikusan zajlik. Ha személyesen vette a 
 belépőt\,  úgy kérjük\,  hogy vegye fel a[..]\nhttps://momkult.hu/even
 ts/domokos-laszlo-szekely-stand-up-2/
URL:https://momkult.hu/events/domokos-laszlo-szekely-stand-up-2/
END:VEVENT
END:VCALENDAR