BEGIN:VCALENDAR
VERSION:2.0
PRODID:-//eventon.com NONSGML v1.0//EN
CALSCALE:GREGORIAN
METHOD:PUBLISH
BEGIN:VEVENT
UID:69e75ce3839d8
DTSTAMP:20260421T111755Z
DTSTART:20220410T170000Z
DTEND:20220410T190000Z
LOCATION:
SUMMARY:GROUP ’N’ SWING ZENEKAR I SZÁZ ÉV SZERELEM
DESCRIPTION:Azon programoknál\,  ahol a helyszín sajátosságai miatt nem
  tartható a látogatók közötti másfél méter\,  továbbra is ajánlju
 k a maszk viselését. ____________________________________________________
 ___________________________________ A 15 éve alakult Fonogram díjas Group
 ’N’Swing Zenekar “Száz Év Szerelem” című produkciója az elmúl
 t 100 év népszerű magyar szerelmi slágereit dolgozza fel egy kétfelvon
 ásos musical előadásban. A zenei[..]\nhttps://momkult.hu/events/groupnsw
 ing-zenekar-szaz-ev-szerelem/
URL:https://momkult.hu/events/groupnswing-zenekar-szaz-ev-szerelem/
END:VEVENT
END:VCALENDAR