BEGIN:VCALENDAR
VERSION:2.0
PRODID:-//eventon.com NONSGML v1.0//EN
CALSCALE:GREGORIAN
METHOD:PUBLISH
BEGIN:VEVENT
UID:69e7833188b0e
DTSTAMP:20260421T140121Z
DTSTART:20220401T180000Z
DTEND:20220401T200000Z
LOCATION:
SUMMARY:PÁL FERI ATYA
DESCRIPTION:Azon programoknál\,  ahol a helyszín sajátosságai miatt nem
  tartható a látogatók közötti másfél méter\,  továbbra is ajánlju
 k a maszk viselését. ____________________________________________________
 ___________________________________ Pál Feri atya új előadásában a psz
 ichológia oldaláról közelíti meg az egyén és a párkapcsolatok probl
 émáit. Egyedi humoros\,  lendületes\,  már-már a stand-up műfajára j
 ellemző önálló stílusában nyújt segítséget a[..]\nhttps://momkult.
 hu/events/pal-feri-atyami-segit-at-az-elet-megoldhatatlan-helyzetein/
URL:https://momkult.hu/events/pal-feri-atyami-segit-at-az-elet-megoldhatatlan-helyzetein/
END:VEVENT
END:VCALENDAR