BEGIN:VCALENDAR
VERSION:2.0
PRODID:-//eventon.com NONSGML v1.0//EN
CALSCALE:GREGORIAN
METHOD:PUBLISH
BEGIN:VEVENT
UID:69eb5bd6718c4
DTSTAMP:20260424T120230Z
DTSTART:20181212T180000Z
DTEND:20181212T190000Z
LOCATION:
SUMMARY:Hitel-est
DESCRIPTION:\nhttps://momkult.hu/events/hitel-est-1212/
URL:https://momkult.hu/events/hitel-est-1212/
END:VEVENT
END:VCALENDAR