BEGIN:VCALENDAR
VERSION:2.0
PRODID:-//eventon.com NONSGML v1.0//EN
CALSCALE:GREGORIAN
METHOD:PUBLISH
BEGIN:VEVENT
UID:69e782e3a555e
DTSTAMP:20260421T140003Z
DTSTART:20220308T180000Z
DTEND:20220308T200000Z
LOCATION:
SUMMARY:HELLO\,  WMN!
DESCRIPTION:Azon programoknÃ¡l\,  ahol a helyszÃ­n sajÃ¡tossÃ¡gai miatt nem
  tarthatÃ³ a lÃ¡togatÃ³k kÃ¶zÃ¶tti mÃ¡sfÃ©l mÃ©ter\,  tovÃ¡bbra is ajÃ¡nlju
 k a maszk viselÃ©sÃ©t. ____________________________________________________
 ___________________________________ MÃ©regtelenÃ­tÃ©s felsÅ‘fokon: kiÃ©gÃ©s
 \,  tÃºlÃ©lÃ©s\,  Ã¶nismeret\,  hatÃ¡rhÃºzÃ¡s\,  avagy: a hetedik te magad 
 vagy! HÃ©t Ã©v alatt kicserÃ©lÅ‘dnek az ember sejtjei. A hetes mÃ¡gikus szÃ
 ¡m. A hetedik napon Isten is megpihent.[..]\nhttps://momkult.hu/events/hell
 o-wmn-meregtelenites-felsofokon-kieges-tuleles-onismeret-hatarhuzas/
URL:https://momkult.hu/events/hello-wmn-meregtelenites-felsofokon-kieges-tuleles-onismeret-hatarhuzas/
END:VEVENT
END:VCALENDAR