BEGIN:VCALENDAR
VERSION:2.0
PRODID:-//eventon.com NONSGML v1.0//EN
CALSCALE:GREGORIAN
METHOD:PUBLISH
BEGIN:VEVENT
UID:69eb5bd6718ca
DTSTAMP:20260424T120230Z
DTSTART:20181206T200000Z
DTEND:20181206T223000Z
LOCATION:
SUMMARY:HoldjÃ¡rat | Tompos KÃ¡tya
DESCRIPTION:A HoldjÃ¡rat\,  az a titokzatos erÅ‘\,  mely lelket lÃ©lekkel Ã
 ¶sszekapcsol\,  lÃ¡thatatlan segÃ­tsÃ©g\,  misztikus utazÃ¡s\,  egy olyan k
 aland\,  melyre mindenki vÃ¡gyik\,  melynek a vÃ©gÃ©n felkavarÃ³\,  vagy Ã©
 pp megnyugtatÃ³\,  Ã¶sszeolvasztÃ³ vagy szÃ©tvÃ¡lasztÃ³ mÃºlhatatlan vagy i
 llÃ©kony szerelmek vÃ¡rnak rÃ¡nk. Ehhez az Ãºjabb utazÃ¡shoz KÃ¡tya ezÃºtta
 l is Hrutka RÃ³bertet kÃ©rte fel ÃºtitÃ¡rsnak. Azonban ezÃºttal[..]\nhttps:
 //momkult.hu/events/holdjarat-tompos-katya/
URL:https://momkult.hu/events/holdjarat-tompos-katya/
END:VEVENT
END:VCALENDAR