BEGIN:VCALENDAR
VERSION:2.0
PRODID:-//eventon.com NONSGML v1.0//EN
CALSCALE:GREGORIAN
METHOD:PUBLISH
BEGIN:VEVENT
UID:69e782e290bda
DTSTAMP:20260421T140002Z
DTSTART:20220305T100000Z
DTEND:20220305T104000Z
LOCATION:
SUMMARY:PR-Evolution Dance Company: BÃ­borka
DESCRIPTION:FelhÃ­vjuk lÃ¡togatÃ³ink szÃ­ves figyelmÃ©t\,  hogy a MOMkult Ã
 ©pÃ¼letÃ©ben aÂ maszkviselÃ©s kÃ¶telezÅ‘! _________________________________
 _______________________________________________________ TÃ¡ncelÅ‘adÃ¡s Ã³vo
 dÃ¡s korosztÃ¡ly szÃ¡mÃ¡ra\,  amiben a mese a kÃ¶rnyezettudatos Ã©letre hÃ­
 vja fel a gyerekek figyelmÃ©t mesÃ©s\,  jÃ¡tÃ©kos formÃ¡ban. Egyszer volt\,
   hol nem volt\,  volt egyszer hÃ¡rom testvÃ©r\,  Dorka\,  Borka Ã©s BÃ­bor
 ka. Dorka Ã©s Borka mindenbÅ‘l tudtak jÃ¡tÃ©kot csinÃ¡lni\,  mÃ©g[..]\nhttp
 s://momkult.hu/events/pr-evolution-dance-company-biborka-0305/
URL:https://momkult.hu/events/pr-evolution-dance-company-biborka-0305/
END:VEVENT
END:VCALENDAR