BEGIN:VCALENDAR
VERSION:2.0
PRODID:-//eventon.com NONSGML v1.0//EN
CALSCALE:GREGORIAN
METHOD:PUBLISH
BEGIN:VEVENT
UID:69e79854ccda0
DTSTAMP:20260421T153132Z
DTSTART:20220221T170000Z
DTEND:20220221T190000Z
LOCATION:
SUMMARY:LÃ¡thatatlanok
DESCRIPTION:FelhÃ­vjuk lÃ¡togatÃ³ink szÃ­ves figyelmÃ©t\,  hogy a MOMkult Ã
 ©pÃ¼letÃ©ben aÂ maszkviselÃ©s kÃ¶telezÅ‘! _________________________________
 ______________________________________________________ AÂ LÃ¡thatatlanokÂ c
 Ã­mÅ± dokumentum filmÂ vetÃ­tÃ©sÃ©t a film alkotÃ³ival kÃ¶zÃ¶s pÃ³diumbeszÃ
 ©lgetÃ©s kÃ¶veti a kommunista diktatÃºrÃ¡k Ã¡ldozatainak emlÃ©knapja alkalm
 Ã¡bÃ³l tartott esten. A LÃ¡thatatlanok cÃ­mÅ± dokumentumfilm hÃ¡rom tÃºlÃ©l
 Å‘ visszaemlÃ©kezÃ©sein keresztÃ¼l\,  lÃ¡tvÃ¡nyos animÃ¡ciÃ³s betÃ©tekkel m
 utatja be a brutÃ¡lis szovjet tÃºlerÅ‘vel szemben folytatott mecseki gerill
 aharcot\,  amelyet[..]\nhttps://momkult.hu/events/lathatatlanok/
URL:https://momkult.hu/events/lathatatlanok/
END:VEVENT
END:VCALENDAR