BEGIN:VCALENDAR
VERSION:2.0
PRODID:-//eventon.com NONSGML v1.0//EN
CALSCALE:GREGORIAN
METHOD:PUBLISH
BEGIN:VEVENT
UID:69e76eda235ca
DTSTAMP:20260421T123434Z
DTSTART:20220408T170000Z
DTEND:20220408T190000Z
LOCATION:
SUMMARY:KARDOS NORBERT ÉS BARÁTAI
DESCRIPTION:Azon programoknál\,  ahol a helyszín sajátosságai miatt nem
  tartható a látogatók közötti másfél méter\,  továbbra is ajánlju
 k a maszk viselését. ____________________________________________________
 ___________________________________ Kardos Norbert zongoraművész\,  zenes
 zerző a kortárs hazai könnyűzenében a színvonal\,  tehetség és ízl
 és egyik szinonimája. A Kőbányai Zenei Stúdió elvégzése után a Lis
 zt Ferenc Zeneakadémián mesterdiplomát szerzett zenész a[..]\nhttps://m
 omkult.hu/events/kardos-norbert-es-baratai/
URL:https://momkult.hu/events/kardos-norbert-es-baratai/
END:VEVENT
END:VCALENDAR