BEGIN:VCALENDAR
VERSION:2.0
PRODID:-//eventon.com NONSGML v1.0//EN
CALSCALE:GREGORIAN
METHOD:PUBLISH
BEGIN:VEVENT
UID:69e7833b30233
DTSTAMP:20260421T140131Z
DTSTART:20220309T180000Z
DTEND:20220309T200000Z
LOCATION:
SUMMARY:CSÁNYI SÁNDOR SZÍNHÁZI ESTJE
DESCRIPTION:Azon programoknál\,  ahol a helyszín sajátosságai miatt nem
  tartható a látogatók közötti másfél méter\,  továbbra is ajánlju
 k a maszk viselését. ____________________________________________________
 __________________________________ Mi a teendő\,  ha az ember a szülőszo
 ba ajtajában döbben rá\,  hogy nemcsak a gyerekekkel nem tud bánni\,  d
 e a nőkkel sem? Miért a mi hibánk\,  ha Ők rosszat[..]\nhttps://momkult
 .hu/events/csanyi-sandor-szinhazi-estje-hogyan-ertsuk-felre-a-noket-0309/
URL:https://momkult.hu/events/csanyi-sandor-szinhazi-estje-hogyan-ertsuk-felre-a-noket-0309/
END:VEVENT
END:VCALENDAR