BEGIN:VCALENDAR
VERSION:2.0
PRODID:-//eventon.com NONSGML v1.0//EN
CALSCALE:GREGORIAN
METHOD:PUBLISH
BEGIN:VEVENT
UID:69eb5fd54fbd2
DTSTAMP:20260424T121933Z
DTSTART:20181205T100000Z
DTEND:20181205T110000Z
LOCATION:
SUMMARY:Panka és a Mikulás | Pódium Színház
DESCRIPTION:Mikulás elkeseredett\,  ugyanis a pedáns kis manói annyi ros
 sz gyereket írtak össze\,  hogy alig maradt olyan\,  akinek ajándékot v
 ihetne. Ám támad egy remek ötlete: hogy bebizonyítsa\,  minden gyerek j
 ó a szíve mélyén\,  elküldi legcsintalanabb manóját\,  Pankát és o
 lvadozó hóember barátját\,  hogy keressenek jó gyerekeket. A közöns
 gben ülő gyerekek segítenek ebben[..]\nhttps://momkult.hu/events/panka-
 es-a-mikulas-podium-szinhaz/
URL:https://momkult.hu/events/panka-es-a-mikulas-podium-szinhaz/
END:VEVENT
END:VCALENDAR