BEGIN:VCALENDAR
VERSION:2.0
PRODID:-//eventon.com NONSGML v1.0//EN
CALSCALE:GREGORIAN
METHOD:PUBLISH
BEGIN:VEVENT
UID:69e78330dae66
DTSTAMP:20260421T140120Z
DTSTART:20220315T190000Z
DTEND:20220315T210000Z
LOCATION:
SUMMARY:LEANDER SZIMFONIK
DESCRIPTION:Azon programoknál\,  ahol a helyszín sajátosságai miatt nem
  tartható a látogatók közötti másfél méter\,  továbbra is ajánlju
 k a maszk viselését. ____________________________________________________
 _________________________________ Köteles Leander legismertebb szerzemény
 einek Pejtsik Péter által készített klasszikus zenei átiratait bemutat
 ó nagykoncerten közreműködik a Farkas Pál által vezényelt Dunakeszi 
 Szimfonikus Zenekar. A koncert során a közreműködők a dalszerző[..]\n
 https://momkult.hu/events/leander-szimfonik/
URL:https://momkult.hu/events/leander-szimfonik/
END:VEVENT
END:VCALENDAR