BEGIN:VCALENDAR
VERSION:2.0
PRODID:-//eventon.com NONSGML v1.0//EN
CALSCALE:GREGORIAN
METHOD:PUBLISH
BEGIN:VEVENT
UID:69e75b3aac0ff
DTSTAMP:20260421T111050Z
DTSTART:20220413T170000Z
DTEND:20220413T190000Z
LOCATION:
SUMMARY:GERENDÁS PÉTER - „HOLDVILÁG”
DESCRIPTION:Azon programoknál\,  ahol a helyszín sajátosságai miatt nem
  tartható a látogatók közötti másfél méter\,  továbbra is ajánlju
 k a maszk viselését. ____________________________________________________
 ___________________________________ Gerendás Péter Holdvilág című kar
 ácsonykor megjelent albuma a szerző negyven éves pályafutásának 18-ik
  albuma. Az elmúlt két év hatására született különleges hangulatú 
 dalokkal Gerendás Péter az utókor számára kíván lenyomatot[..]\nhttp
 s://momkult.hu/events/gerendas-peter-holdvilag/
URL:https://momkult.hu/events/gerendas-peter-holdvilag/
END:VEVENT
END:VCALENDAR