BEGIN:VCALENDAR
VERSION:2.0
PRODID:-//eventon.com NONSGML v1.0//EN
CALSCALE:GREGORIAN
METHOD:PUBLISH
BEGIN:VEVENT
UID:69e76eba88762
DTSTAMP:20260421T123402Z
DTSTART:20220317
DTEND:20220318
LOCATION:
SUMMARY:AZ ILLÚZIÓ MESTEREI 2022
DESCRIPTION:Azon programoknál\,  ahol a helyszín sajátosságai miatt nem
  tartható a látogatók közötti másfél méter\,  továbbra is ajánlju
 k a maszk viselését. ____________________________________________________
 ____________________________ Világhírű bűvészek és az ország legjobb
  illuzionistái együtt\,  egy vadonatúj műsorban! Az előző években r
 endezett\,  nagy sikerű előadássorozatok után az Illúzió Mesterei új
  fellépőkkel\,  sosem látott műsorszámokkal térnek vissza. A[..]\nhtt
 ps://momkult.hu/events/az-illuzio-mesterei-2022/
URL:https://momkult.hu/events/az-illuzio-mesterei-2022/
END:VEVENT
END:VCALENDAR