BEGIN:VCALENDAR
VERSION:2.0
PRODID:-//eventon.com NONSGML v1.0//EN
CALSCALE:GREGORIAN
METHOD:PUBLISH
BEGIN:VEVENT
UID:69e9ebe1d0f35
DTSTAMP:20260423T095233Z
DTSTART:20220512T180000Z
DTEND:20220512T200000Z
LOCATION:
SUMMARY:KENNY GARRETT
DESCRIPTION:Azon programoknál\,  ahol a helyszín sajátosságai miatt nem
  tartható a látogatók közötti másfél méter\,  továbbra is ajánlju
 k a maszk viselését. ____________________________________________________
 ___________________________________ Kenny Garrett új albuma\,  a Sounds F
 rom The Ancestors lenyűgöző. Aretha Franklintől Marvin Gaye-ig\,  az 
 afro-kubai jazztől a gospelig\,  az R&amp;B-től a hip-hopig érezhetünk 
 hatásokat kompozícióin. Féltucatnyi énekes színezi zenéjét olyan ta
 rtós[..]\nhttps://momkult.hu/events/kenny-garrett/
URL:https://momkult.hu/events/kenny-garrett/
END:VEVENT
END:VCALENDAR