BEGIN:VCALENDAR
VERSION:2.0
PRODID:-//eventon.com NONSGML v1.0//EN
CALSCALE:GREGORIAN
METHOD:PUBLISH
BEGIN:VEVENT
UID:69e76db8d34d9
DTSTAMP:20260421T122944Z
DTSTART:20220403T180000Z
DTEND:20220403T200000Z
LOCATION:
SUMMARY:DANIEL MELINGO
DESCRIPTION:Azon programoknál\,  ahol a helyszín sajátosságai miatt nem
  tartható a látogatók közötti másfél méter\,  továbbra is ajánlju
 k a maszk viselését. ____________________________________________________
 ___________________________________ Daniel Melingo ugyanolyan rejtélyes\, 
  mint maga a tangó\,  az a különös\,  perzselő zene\,  amely szenvedé
 ly nélkül egyszerűen nem létezhet. Daniel Melingo mély\,  érces hangj
 án táncba vonja a hallgatóit a[..]\nhttps://momkult.hu/events/daniel-mel
 ingo/
URL:https://momkult.hu/events/daniel-melingo/
END:VEVENT
END:VCALENDAR