BEGIN:VCALENDAR
VERSION:2.0
PRODID:-//eventon.com NONSGML v1.0//EN
CALSCALE:GREGORIAN
METHOD:PUBLISH
BEGIN:VEVENT
UID:69e782a42a481
DTSTAMP:20260421T135900Z
DTSTART:20220306T180000Z
DTEND:20220306T200000Z
LOCATION:
SUMMARY:GetCloser Session No. 01
DESCRIPTION:FelhÃ­vjuk lÃ¡togatÃ³ink szÃ­ves figyelmÃ©t\,  hogy a MOMkult Ã
 ©pÃ¼letÃ©ben aÂ maszkviselÃ©s kÃ¶telezÅ‘! _________________________________
 _______________________________________________________ A jazz az a mÅ±faj\
 ,  ami hatÃ¡rtalan\,  nincsenek sem nyelvi\,  sem kulturÃ¡lis hatÃ¡rai. A G
 etCloser Jazz Fest sorÃ¡n kÃ¶zremÅ±kÃ¶dÅ‘ kubai\,  mozambiki\,  szardÃ­niai
 \,  alfÃ¶ldi Ã©s cigÃ¡ny zenÃ©szek a fesztivÃ¡l egy hete alatt tÃ¶bb alkalo
 mmal prÃ³bÃ¡lnak egyÃ¼tt\,  hogy a fesztivÃ¡lÂ  zÃ¡rÃ³koncertjÃ©n[..]\nhttp
 s://momkult.hu/events/getcloser-session-no-1/
URL:https://momkult.hu/events/getcloser-session-no-1/
END:VEVENT
END:VCALENDAR