BEGIN:VCALENDAR
VERSION:2.0
PRODID:-//eventon.com NONSGML v1.0//EN
CALSCALE:GREGORIAN
METHOD:PUBLISH
BEGIN:VEVENT
UID:69e783320f379
DTSTAMP:20260421T140122Z
DTSTART:20220304T180000Z
DTEND:20220304T190000Z
LOCATION:
SUMMARY:PÁRNICZKY QUARTET
DESCRIPTION:Felhívjuk látogatóink szíves figyelmét\,  hogy a MOMkult 
 pületében a maszkviselés kötelező! _________________________________
 _____________________________________________________ A koncert a GetClose
 r Jazz Fest 2022 keretei között kerül megrendezésre. A fesztivál tov
 bbi napi programja: CHRISTIAN MCBRIDE INSIDE STRAIGHT A Parniczky Quartet 
 teljesen egyedi megszólalása egyformán gyökerezik a jazz-ben\,  a kort
 rs klasszikus-\,  és a magyar népzenében. A zenekar azzal a céllal[..
 ]\nhttps://momkult.hu/events/parniczky-quartet/
URL:https://momkult.hu/events/parniczky-quartet/
END:VEVENT
END:VCALENDAR