BEGIN:VCALENDAR
VERSION:2.0
PRODID:-//eventon.com NONSGML v1.0//EN
CALSCALE:GREGORIAN
METHOD:PUBLISH
BEGIN:VEVENT
UID:69e7833b30244
DTSTAMP:20260421T140131Z
DTSTART:20220303T180000Z
DTEND:20220303T190000Z
LOCATION:
SUMMARY:HAJDU KLÁRA QUARTET
DESCRIPTION:Felhívjuk látogatóink szíves figyelmét\,  hogy a MOMkult 
 pületében a maszkviselés kötelező! _________________________________
 _____________________________________________________ A koncert a GetCloser
  Jazz Fest 2022 keretei között kerül megrendezésre. A fesztivál tová
 bbi napi programja: JOSÉ JAMES Hajdu Klára a hazai jazzélet egyik kiemel
 kedő énekes-dalszerzője\,  tanára. Majdnem egy évtizedig énekelt a n
 pszerű\,  Fonogram-díjas és aranylemezes Balázs Elemér Groupban Winan
 d[..]\nhttps://momkult.hu/events/hajdu-klara-quartet/
URL:https://momkult.hu/events/hajdu-klara-quartet/
END:VEVENT
END:VCALENDAR