BEGIN:VCALENDAR
VERSION:2.0
PRODID:-//eventon.com NONSGML v1.0//EN
CALSCALE:GREGORIAN
METHOD:PUBLISH
BEGIN:VEVENT
UID:69e782fc8decb
DTSTAMP:20260421T140028Z
DTSTART:20220327T150000Z
DTEND:20220327T170000Z
LOCATION:
SUMMARY:NÖVENDÉKTŐL A MŰVÉSZIG...
DESCRIPTION:Azon programoknál\,  ahol a helyszín sajátosságai miatt nem
  tartható a látogatók közötti másfél méter\,  továbbra is ajánlju
 k a maszk viselését. ____________________________________________________
 ___________________________________ A Solti György Zeneiskola jelenlegi é
 s egykori kiemelkedő tehetségű növendékeinek és művésztanárainak b
 emutató előadása a Hegyvidéki Önkormányzat támogatásával működő
  Divertimento Kamarazenekar közreműködésével. A hangversenyen G. B. Pe
 rgolesi\,  G. F.[..]\nhttps://momkult.hu/events/novendektol-a-muveszig/
URL:https://momkult.hu/events/novendektol-a-muveszig/
END:VEVENT
END:VCALENDAR