BEGIN:VCALENDAR
VERSION:2.0
PRODID:-//eventon.com NONSGML v1.0//EN
CALSCALE:GREGORIAN
METHOD:PUBLISH
BEGIN:VEVENT
UID:69eb72d43c4fd
DTSTAMP:20260424T134036Z
DTSTART:20181114T180000Z
DTEND:20181114T190000Z
LOCATION:
SUMMARY:Hitel-est
DESCRIPTION:\nhttps://momkult.hu/events/hitel-est-1114/
URL:https://momkult.hu/events/hitel-est-1114/
END:VEVENT
END:VCALENDAR