BEGIN:VCALENDAR
VERSION:2.0
PRODID:-//eventon.com NONSGML v1.0//EN
CALSCALE:GREGORIAN
METHOD:PUBLISH
BEGIN:VEVENT
UID:69e782a42a484
DTSTAMP:20260421T135900Z
DTSTART:20220303T190000Z
DTEND:20220303T210000Z
LOCATION:
SUMMARY:JOSÉ JAMES
DESCRIPTION:Felhívjuk látogatóink szíves figyelmét\,  hogy a MOMkult 
 pületében a maszkviselés kötelező! _________________________________
 _____________________________________________________ A koncert a GetClose
 r Jazz Fest 2022 keretei között kerül megrendezésre. A fesztivál tov
 bbi napi programja: HAJDU KLÁRA QUARTET Művészi szabadság\,  kreativit
 ás határok nélkül\,  műfajokon túli zene\,  egy generációt meghatá
 rozó hang. José James az újra feltalálás mestere. Az elmúlt 13 év[..
 ]\nhttps://momkult.hu/events/jose-james/
URL:https://momkult.hu/events/jose-james/
END:VEVENT
END:VCALENDAR