BEGIN:VCALENDAR
VERSION:2.0
PRODID:-//eventon.com NONSGML v1.0//EN
CALSCALE:GREGORIAN
METHOD:PUBLISH
BEGIN:VEVENT
UID:69e79830bfd8e
DTSTAMP:20260421T153056Z
DTSTART:20220228T190000Z
DTEND:20220228T210000Z
LOCATION:
SUMMARY:CRISTINA BRANCO
DESCRIPTION:FelhÃ­vjuk lÃ¡togatÃ³ink szÃ­ves figyelmÃ©t\,  hogy a MOMkult Ã
 ©pÃ¼letÃ©ben aÂ maszkviselÃ©s kÃ¶telezÅ‘! _________________________________
 ____________________________________________________ Cristina BrancÃ³t kezd
 etben a jazz Ã©s a bossa nova vonzotta\,  akkor fordult a portugÃ¡l fado fe
 lÃ©\,  amikor nagyapja megismertette vele AmÃ¡lia Rodrigues muzsikÃ¡jÃ¡t. 2
 2 Ã©vvel ezelÅ‘tti amszterdami bemutatkozÃ¡sa utÃ¡n Ã©s 15 albummal a hÃ¡ta
  mÃ¶gÃ¶tt a portugÃ¡l Cristina Branco[..]\nhttps://momkult.hu/events/cristi
 na-branco0228/
URL:https://momkult.hu/events/cristina-branco0228/
END:VEVENT
END:VCALENDAR