BEGIN:VCALENDAR
VERSION:2.0
PRODID:-//eventon.com NONSGML v1.0//EN
CALSCALE:GREGORIAN
METHOD:PUBLISH
BEGIN:VEVENT
UID:69e7a8beeeaf2
DTSTAMP:20260421T164134Z
DTSTART:20220207T190000Z
DTEND:20220207T210000Z
LOCATION:
SUMMARY:MADELEINE PEYROUX ELHALASZTVA!
DESCRIPTION:Tájékoztatjuk látogatóinkat\,  hogy a február 7-i Madelei
 ne Peyroux koncert elhalasztva\,  későbbi időpontban kerül megtartásra
 . Észrevételeikkel és további információkért\,  kérjük\,  fordulja
 nak a koncertet szervező cég felé: Get Closer Concerts Kft. hello@getclo
 serconcerts.com Együttműködésüket és megértésüket megköszönve\, 
  MOMkult ____________________________________________ Felhívjuk látogató
 ink szíves figyelmét\,  hogy a MOMkult épületében a maszkviselés kö
 telező! __________________________________________________________________
 ______________________ Madeline Peyroux 16 évesen[..]\nhttps://momkult.hu/
 events/madeleine-pexroux/
URL:https://momkult.hu/events/madeleine-pexroux/
END:VEVENT
END:VCALENDAR