BEGIN:VCALENDAR
VERSION:2.0
PRODID:-//eventon.com NONSGML v1.0//EN
CALSCALE:GREGORIAN
METHOD:PUBLISH
BEGIN:VEVENT
UID:69eb89074ba41
DTSTAMP:20260424T151519Z
DTSTART:20181110T190000Z
DTEND:20181110T204000Z
LOCATION:
SUMMARY:Zenevonat szuperkoncert az LGT sztárjaival
DESCRIPTION:Az Abrakazabra zenekar által létrehozott Zenevonat Szuperkonc
 ert produkcióban az LGT két legendás zenésze: Karácsony János és Sol
 ti János mellett két fiatal tehetség Veres Mónika “Nika” és Heincz
  Gábor “Biga” előadásában szólalnak meg LGT együttes mindenki ál
 tal ismert legnagyobb\,  legkedveltebb dalai: Ő még csak most 14\,  Nem a
 dom fel\,  Zenevonat\,  Álomarcú[..]\nhttps://momkult.hu/events/zenevonat
 -szuperkoncert-az-lgt-sztarjaival/
URL:https://momkult.hu/events/zenevonat-szuperkoncert-az-lgt-sztarjaival/
END:VEVENT
END:VCALENDAR