BEGIN:VCALENDAR
VERSION:2.0
PRODID:-//eventon.com NONSGML v1.0//EN
CALSCALE:GREGORIAN
METHOD:PUBLISH
BEGIN:VEVENT
UID:69e782ab38e53
DTSTAMP:20260421T135907Z
DTSTART:20220407T170000Z
DTEND:20220407T190000Z
LOCATION:
SUMMARY:ELEMEK  TÁNCA
DESCRIPTION:Azon programoknál\,  ahol a helyszín sajátosságai miatt nem
  tartható a látogatók közötti másfél méter\,  továbbra is ajánlju
 k a maszk viselését. ____________________________________________________
 ___________________________________ Az Urban Verbunk Társulat művészet
 i igazgatói\,  Moussa Ahmed és Tóth Judit a New York Lincoln Center s
 zínpadától\,  a Riói Olimpián kersztül egészen Károly Herce
 g 70. születésnapjáig képviselték már a[..]\nhttps://momkult.hu/
 events/urban-verbunk-elemek-tanca/
URL:https://momkult.hu/events/urban-verbunk-elemek-tanca/
END:VEVENT
END:VCALENDAR