BEGIN:VCALENDAR
VERSION:2.0
PRODID:-//eventon.com NONSGML v1.0//EN
CALSCALE:GREGORIAN
METHOD:PUBLISH
BEGIN:VEVENT
UID:69e75b3ab3aa9
DTSTAMP:20260421T111050Z
DTSTART:20220414T170000Z
DTEND:20220414T190000Z
LOCATION:
SUMMARY:BENDA GÁBOR: JÉZUS TÖRTÉNETE
DESCRIPTION:Azon programoknál\,  ahol a helyszín sajátosságai miatt nem
  tartható a látogatók közötti másfél méter\,  továbbra is ajánlju
 k a maszk viselését. ____________________________________________________
 ___________________________________ Tizenkét tételes szóló zongora mű\
 ,  amely Jézus életének tizenkét állomását mutatja be. A művet Bend
 a Gábor komponálta\,  és szöveges evangéliumi narráció kíséretébe
 n adja elő. Közreműködik: Horváth &#8222;Plútó&#8221; József basszu
 sgitáros[..]\nhttps://momkult.hu/events/benda-gabor-jezus-tortenete-zenemu
 -12-tetelben/
URL:https://momkult.hu/events/benda-gabor-jezus-tortenete-zenemu-12-tetelben/
END:VEVENT
END:VCALENDAR