BEGIN:VCALENDAR
VERSION:2.0
PRODID:-//eventon.com NONSGML v1.0//EN
CALSCALE:GREGORIAN
METHOD:PUBLISH
BEGIN:VEVENT
UID:69e7a8beeeae0
DTSTAMP:20260421T164134Z
DTSTART:20220116T140000Z
DTEND:20220116T180000Z
LOCATION:
SUMMARY:IringÃ³ TÃ¡ncStÃºdiÃ³ TÃ¡ncGÃ¡la
DESCRIPTION:Latin lÃ¡nyformÃ¡ciÃ³k\,  felnÅ‘tt tÃ¡rsastÃ¡nc koreogrÃ¡fiÃ¡kk
 al fellÃ©pnek a StÃºdiÃ³ban tÃ¡ncolÃ³ gyerekek Ã©s felnÅ‘ttek. &nbsp; A szÃ
 ¡zhalombattai LadyDance Ã©s TÃ¡rsasTÃ¡nc csoport\,  a martonvÃ¡sÃ¡ri KÃ©k c
 soport\,  a MomSport csoportjai: Ovis\,  SÃ¡rga\,  FehÃ©r\,  KÃ©k\,  KisPin
 k\,  NagyPink\,  Ã©s az ISB tanulÃ³i.\nhttps://momkult.hu/events/iringo-tan
 cstudio-tancgala-2/
URL:https://momkult.hu/events/iringo-tancstudio-tancgala-2/
END:VEVENT
END:VCALENDAR