BEGIN:VCALENDAR
VERSION:2.0
PRODID:-//eventon.com NONSGML v1.0//EN
CALSCALE:GREGORIAN
METHOD:PUBLISH
BEGIN:VEVENT
UID:69e7abed9f908
DTSTAMP:20260421T165509Z
DTSTART:20220130T170000Z
DTEND:20220130T190000Z
LOCATION:
SUMMARY:Zeng a lÃ©lekâ€¦
DESCRIPTION:A Budapest FÅ‘vÃ¡ros BartÃ³k TÃ¡ncegyÃ¼ttes meghatÃ¡rozÃ³ szere
 plÅ‘je a magyarorszÃ¡gi nÃ©ptÃ¡nc\,  nÃ©pzene Ã©s a nÃ©pmÅ±vÃ©szet vilÃ¡gÃ¡
 nak. Az elÅ‘adÃ¡sok\,  fellÃ©pÃ©sek mellett kiemelt terÃ¼let az EgyÃ¼ttes s
 zÃ¡mÃ¡ra az edukÃ¡ciÃ³\,  a gyerekek Ã©s a fiatalok tanÃ­tÃ¡sa\,  a felnÅ‘t
 t nÃ©ptÃ¡ncos nemzedÃ©k utÃ¡npÃ³tlÃ¡sÃ¡nak kÃ©pzÃ©se. A Zeng a lÃ©lekâ€¦ cÃ
 ­mÅ± gÃ¡lamÅ±soron a BartÃ³k TÃ¡ncegyÃ¼ttes Ã¶sszes jelenlegi korosztÃ¡lyos
 [..]\nhttps://momkult.hu/events/zeng-a-lelek/
URL:https://momkult.hu/events/zeng-a-lelek/
END:VEVENT
END:VCALENDAR