BEGIN:VCALENDAR
VERSION:2.0
PRODID:-//eventon.com NONSGML v1.0//EN
CALSCALE:GREGORIAN
METHOD:PUBLISH
BEGIN:VEVENT
UID:69e797ea4f885
DTSTAMP:20260421T152946Z
DTSTART:20220227T100000Z
DTEND:20220227T120000Z
LOCATION:
SUMMARY:Mitől zong az ora? - Eckhardt Gábor hangszerbemutató koncertje gyerekeknek
DESCRIPTION:Felhívjuk látogatóink szíves figyelmét\,  hogy a MOMkult 
 pületében a maszkviselés kötelező! _________________________________
 _____________________________________________________ Találkoztál már 
 orával”? “Zongott” már neked? Megtörténhet veled\,  ha eljössz 
 Eckhardt Gábor Liszt-díjas zongoraművész családias hangulatú\,  inter
 aktív\,  rengeteg humorral átszőtt műsorára\,  mely a kisiskolásoktó
 l a nagyszülőkig mindenki számára egyaránt élvezetes kikapcsolódást
  és feltöltekezést nyújt a délelőtt folyamán. Miért érdemes[..]\nh
 ttps://momkult.hu/events/mitol-zong-az-ora/
URL:https://momkult.hu/events/mitol-zong-az-ora/
END:VEVENT
END:VCALENDAR