BEGIN:VCALENDAR
VERSION:2.0
PRODID:-//eventon.com NONSGML v1.0//EN
CALSCALE:GREGORIAN
METHOD:PUBLISH
BEGIN:VEVENT
UID:69e76d7f6a2ce
DTSTAMP:20260421T122847Z
DTSTART:20220402T170000Z
DTEND:20220402T190000Z
LOCATION:
SUMMARY:SANTA DIVER
DESCRIPTION:Azon programoknÃ¡l\,  ahol a helyszÃ­n sajÃ¡tossÃ¡gai miatt nem
  tarthatÃ³ a lÃ¡togatÃ³k kÃ¶zÃ¶tti mÃ¡sfÃ©l mÃ©ter\,  tovÃ¡bbra is ajÃ¡nlju
 k a maszk viselÃ©sÃ©t. ____________________________________________________
 ___________________________________ A 2006 Ã³ta mÅ±kÃ¶dÅ‘ Santa Diver formÃ
 ¡ciÃ³t a 2019-ben Artisjus-dÃ­jjal kitÃ¼ntetett jazzhegedÅ±s KÃ©zdy Luca\, 
  a multiinstrumentalista-zeneszerzÅ‘ Szesztay DÃ¡vid Ã©s SzegÅ‘ DÃ¡vid dobo
 s alkotja. A hÃ¡rom hangszer Ã©s egyÃ©nisÃ©g egy[..]\nhttps://momkult.hu/ev
 ents/santa-diver/
URL:https://momkult.hu/events/santa-diver/
END:VEVENT
END:VCALENDAR