BEGIN:VCALENDAR
VERSION:2.0
PRODID:-//eventon.com NONSGML v1.0//EN
CALSCALE:GREGORIAN
METHOD:PUBLISH
BEGIN:VEVENT
UID:69e782fd5350b
DTSTAMP:20260421T140029Z
DTSTART:20220303T180000Z
DTEND:20220303T200000Z
LOCATION:
SUMMARY:Hárs Viktor
DESCRIPTION:Felhívjuk látogatóink szíves figyelmét\,  hogy a MOMkult 
 pületében a maszkviselés kötelező! __________________________________
 ____________________________________________________ Ősbemutató &#8211; H
 árs Viktor: Szvit énekhangra\,  baritongitárra\,  ütőhangszerekre és 
 vonósnégyesre. Támogatók: A Koncert az EMET támogatásával jött lét
 re. 9s Műhely Szervező: Sambosi Bt.         ŐsbemutatóHárs Viktor 
 &#8211; baritongitár Pusztai Csaba &#8211; ütőhangszerek Kozma Orsi –[
 ..]\nhttps://momkult.hu/events/legyen-orom-a-zene/
URL:https://momkult.hu/events/legyen-orom-a-zene/
END:VEVENT
END:VCALENDAR