BEGIN:VCALENDAR
VERSION:2.0
PRODID:-//eventon.com NONSGML v1.0//EN
CALSCALE:GREGORIAN
METHOD:PUBLISH
BEGIN:VEVENT
UID:69e7aacba16b8
DTSTAMP:20260421T165019Z
DTSTART:20220210T180000Z
DTEND:20220210T200000Z
LOCATION:
SUMMARY:Mit fÃ©lt az\,  aki fÃ©ltÃ©keny?
DESCRIPTION:FelhÃ­vjuk lÃ¡togatÃ³ink szÃ­ves figyelmÃ©t\,  hogy a MOMkult Ã
 ©pÃ¼letÃ©ben a maszkviselÃ©s kÃ¶telezÅ‘! &#8212;&#8212;&#8212;&#8212;&#8212
 ;&#8212;&#8212;&#8212;&#8212;&#8212;&#8212;&#8212;&#8212;&#8212;&#8212;&#82
 12;&#8212;&#8212;&#8212;&#8212;&#8212;&#8212;&#8212;&#8212;&#8212;&#8212;&#
 8212;&#8212;&#8212;&#8212;&#8212;&#8212;&#8212;&#8212;&#8212;&#8212;&#8212;
 &#8212;&#8212;&#8212;&#8212;&#8212;&#8212;&#8212;&#8212;&#8212;&#8212;&#821
 2;&#8212;&#8212;&#8211; * SzÃ­nhÃ¡z Ã©s pszicholÃ³gia * FÃ©ltÃ©kenysÃ©g a c
 salÃ¡dban\,  a szakmÃ¡ban\,  a szerelemben\,  a barÃ¡tsÃ¡gban &#8211; ezek 
 mind egy tÅ‘rÅ‘l fakadnak? KÃ¶nnyÅ±-e magunkban azonosÃ­tani a mardosÃ³ Ã©r
 zÃ©st\,  Ã©s vajon az irigysÃ©ghez\,  az Ã¶nzÃ©shez\,  az Ã¶nismerethez vag
 y az Ã¶nbizalomhoz van[..]\nhttps://momkult.hu/events/mit-fel-az-aki-feltek
 eny/
URL:https://momkult.hu/events/mit-fel-az-aki-feltekeny/
END:VEVENT
END:VCALENDAR