BEGIN:VCALENDAR
VERSION:2.0
PRODID:-//eventon.com NONSGML v1.0//EN
CALSCALE:GREGORIAN
METHOD:PUBLISH
BEGIN:VEVENT
UID:69e797ea4f888
DTSTAMP:20260421T152946Z
DTSTART:20220215
DTEND:20220216
LOCATION:
SUMMARY:KIÁLLÍTÁS A SENLIS-I SAINT-FRAMBOURG KÁPOLNA IMS ÉPÍTÉSZETI FOTOGRAMMETRIAI FELMÉRÉSI RAJZAIBÓL
DESCRIPTION:Felhívjuk látogatóink szíves figyelmét\,  hogy a MOMkult 
 pületében a maszkviselés kötelező! _________________________________
 ______________________________________________________ Cziffra György Magy
 arország elhagyását követően Franciaországba költözött\,  s hamaro
 san világhírnévre tett szert. Különböző zenei fesztiválok valósult
 ak meg anyagi támogatásával\,  melyek helyszínéül olyan középkori t
 emplomokat választott\,  amelyek eredeti funkciójukat elvesztve kiváló 
 koncert helyszínként szolgálhattak. André  Malraux miniszter (a 20. sz
 ázad[..]\nhttps://momkult.hu/events/kiallitas-a-senlis-i-saint-frambourg-k
 apolna-ims-epiteszeti-fotogrammetriai-felmeresi-rajzaibol/
URL:https://momkult.hu/events/kiallitas-a-senlis-i-saint-frambourg-kapolna-ims-epiteszeti-fotogrammetriai-felmeresi-rajzaibol/
END:VEVENT
END:VCALENDAR