BEGIN:VCALENDAR
VERSION:2.0
PRODID:-//eventon.com NONSGML v1.0//EN
CALSCALE:GREGORIAN
METHOD:PUBLISH
BEGIN:VEVENT
UID:69e7a8af03473
DTSTAMP:20260421T164119Z
DTSTART:20220127T180000Z
DTEND:20220127T200000Z
LOCATION:
SUMMARY:Nekem a kÃ©rÃ©s nagy szÃ©gyen...
DESCRIPTION:FelhÃ­vjuk lÃ¡togatÃ³ink szÃ­ves figyelmÃ©t\,  hogy a MOMkult Ã
 ©pÃ¼letÃ©ben a maszkviselÃ©s kÃ¶telezÅ‘! &#8212;&#8212;&#8212;&#8212;&#8212
 ;&#8212;&#8212;&#8212;&#8212;&#8212;&#8212;&#8212;&#8212;&#8212;&#8212;&#82
 12;&#8212;&#8212;&#8212;&#8212;&#8212;&#8212;&#8212;&#8212;&#8212;&#8212;&#
 8212;&#8212;&#8212;&#8212;&#8212;&#8212;&#8212;&#8212;&#8212;&#8212;&#8212;
 &#8212;&#8212;&#8212;&#8212;&#8212;&#8212;&#8212;&#8212;&#8212;&#8212;&#821
 2;&#8212;&#8212;&#8211; * SzÃ­nhÃ¡z Ã©s pszicholÃ³gia * MiÃ©rt nehÃ©z kÃ©rn
 i Ã©s miÃ©rt nem kÃ¶nnyÅ± elfogadni? Mire van szÃ¼ksÃ©ge annak\,  aki nem s
 zeret kÃ©rni Ã©s mit lehet adni annak\,  aki nem mer elfogadni? Jelenetek Ã
 ©s beszÃ©lgetÃ©sek arrÃ³l\,  mi rejtÅ‘zhet a ki[..]\nhttps://momkult.hu/eve
 nts/nekem-a-keres-nagy-szegyen/
URL:https://momkult.hu/events/nekem-a-keres-nagy-szegyen/
END:VEVENT
END:VCALENDAR