BEGIN:VCALENDAR
VERSION:2.0
PRODID:-//eventon.com NONSGML v1.0//EN
CALSCALE:GREGORIAN
METHOD:PUBLISH
BEGIN:VEVENT
UID:69e797ffd94d5
DTSTAMP:20260421T153007Z
DTSTART:20220223T180000Z
DTEND:20220223T200000Z
LOCATION:
SUMMARY:JÁTSZMA!
DESCRIPTION:Felhívjuk látogatóink szíves figyelmét\,  hogy a MOMkult 
 pületében a maszkviselés kötelező! _________________________________
 _____________________________________________________ Párkapcsolati szitu
 ciók élőben Stefanovics Angéla és Janklovics Péter színművészek e
 lőadásában\,  Csernus Imre pszichiáter kommentjeivel. Stefanovics\,  Ja
 nklovics\,  Csernus\nhttps://momkult.hu/events/jatszma/
URL:https://momkult.hu/events/jatszma/
END:VEVENT
END:VCALENDAR