BEGIN:VCALENDAR
VERSION:2.0
PRODID:-//eventon.com NONSGML v1.0//EN
CALSCALE:GREGORIAN
METHOD:PUBLISH
BEGIN:VEVENT
UID:69e7bc7ab195c
DTSTAMP:20260421T180546Z
DTSTART:20220112T170000Z
DTEND:20220112T190000Z
LOCATION:
SUMMARY:Hitel-est â€“ Az utolsÃ³ Ã©rtelmisÃ©gi
DESCRIPTION:FelhÃ­vjuk lÃ¡togatÃ³ink szÃ­ves figyelmÃ©t\,  hogy a MOMkult Ã
 ©pÃ¼letÃ©ben aÂ maszkviselÃ©s kÃ¶telezÅ‘! _________________________________
 ___________________________________________________________ Kiss Gy. Csaba 
 SzÃ©chenyi-dÃ­jas magyar irodalomtÃ¶rtÃ©nÃ©sz\,  mÅ±velÅ‘dÃ©stÃ¶rtÃ©nÃ©sz\,
   cÃ­mzetes egyetemi tanÃ¡r\,  az MTA doktora Ã©s Papp Endre\,  a Hitel fol
 yÃ³irat szerkesztÅ‘jÃ©nek beszÃ©lgetÃ©se. Papp Endre beszÃ©lgetÅ‘tÃ¡rsa: Ki
 ss Gy. CsabaPapp Endre\nhttps://momkult.hu/events/hitel-est-15/
URL:https://momkult.hu/events/hitel-est-15/
END:VEVENT
END:VCALENDAR