BEGIN:VCALENDAR
VERSION:2.0
PRODID:-//eventon.com NONSGML v1.0//EN
CALSCALE:GREGORIAN
METHOD:PUBLISH
BEGIN:VEVENT
UID:69e79873a7ddd
DTSTAMP:20260421T153203Z
DTSTART:20220220T180000Z
DTEND:20220220T200000Z
LOCATION:
SUMMARY:BalÃ¡zs ElemÃ©r Group I Magyar slÃ¡gerek mÃ¡skÃ©pp
DESCRIPTION:FelhÃ­vjuk lÃ¡togatÃ³ink szÃ­ves figyelmÃ©t\,  hogy a MOMkult Ã
 ©pÃ¼letÃ©ben aÂ maszkviselÃ©s kÃ¶telezÅ‘! _________________________________
 ______________________________________________________ A BalÃ¡zs ElemÃ©r Gr
 oup feldolgozÃ¡sÃ¡ban\,  Ã©s elÅ‘adÃ¡sÃ¡ban elhangzÃ³ klasszikus magyar slÃ
 ¡gerek bemutatÃ¡sa. Az elÅ‘adott dalok magyar nyelven szÃ³lalnak meg\,  bem
 utatva az 1950-esÂ Ã©vektÅ‘l 1980-as Ã©vekig Ã­rÃ³dott klasszikus Ã¶rÃ¶kzÃ¶
 ld slÃ¡gerek egy rÃ©szÃ©t a jazz mÅ±fajÃ¡banÂ ÃºjraÃ©rtelmezve.Â A BalÃ¡zs 
 ElemÃ©r Group feldolgozÃ¡sÃ¡ban idÃ¡ig ezek[..]\nhttps://momkult.hu/events/
 balazs-elemer-group-i-magyar-slagerek-maskepp/
URL:https://momkult.hu/events/balazs-elemer-group-i-magyar-slagerek-maskepp/
END:VEVENT
END:VCALENDAR