BEGIN:VCALENDAR
VERSION:2.0
PRODID:-//eventon.com NONSGML v1.0//EN
CALSCALE:GREGORIAN
METHOD:PUBLISH
BEGIN:VEVENT
UID:69e7bc562c72e
DTSTAMP:20260421T180510Z
DTSTART:20220104
DTEND:20220105
LOCATION:
SUMMARY:Tóth László István kiállítása
DESCRIPTION:1989-ben\,  az érettségit követően nyert felvételt a Kecsk
 eméti Rajzfilmstúdióba (ma: Kecskemétfilm). Az évtizedek alatt a szakm
 a jónéhány munkakörében dolgozott\,  a hazai animációs világ legnev
 esebb rendezőitől tanulhatott. Rajzolói\,  animátori\,  supervisori mun
 kakörökben szerzett tapasztalait több nyugat-európai és ázsiai stúdi
 óban bővítette. Jelenleg főként projektvezetőként\,  részben társp
 roducerként tevékenykedik. Hivatását jól kiegészíti a fényképezés
 \,  amihez[..]\nhttps://momkult.hu/events/toth-laszlo-kiallitasa/
URL:https://momkult.hu/events/toth-laszlo-kiallitasa/
END:VEVENT
END:VCALENDAR