BEGIN:VCALENDAR
VERSION:2.0
PRODID:-//eventon.com NONSGML v1.0//EN
CALSCALE:GREGORIAN
METHOD:PUBLISH
BEGIN:VEVENT
UID:69eb8b61374a8
DTSTAMP:20260424T152521Z
DTSTART:20181105T100000Z
DTEND:20181105T110000Z
LOCATION:
SUMMARY:A hollÃ³ Ã©s a rÃ³ka | La Fontaine
DESCRIPTION:Hiszitek\,  vagy nem\,  ha egy rÃ³kÃ¡nak Ã¼res a gyomra Ã©s nag
 yon Ã©hes\,  akkor megtelik az agya Ã¶tletekkel! Ha a megszerzendÅ‘ finomsÃ
 ¡g egy illatos\,  gusztusos sajt\,  ami ott incselkedik a feje felett egy h
 ollÃ³ csÅ‘rÃ©ben\,  akkor a rÃ³ka olyan terveket kÃ©pes kieszelni\,  amelye
 k senkinek sem jutnÃ¡nak az eszÃ©beâ€¦ hacsak nem egy[..]\nhttps://momkult.
 hu/events/a-hollo-es-a-roka-la-fontaine/
URL:https://momkult.hu/events/a-hollo-es-a-roka-la-fontaine/
END:VEVENT
END:VCALENDAR